BEGIN:VCALENDAR
VERSION:2.0
PRODID:-//Christian Community Church of Conklin - ECPv6.15.13//NONSGML v1.0//EN
CALSCALE:GREGORIAN
METHOD:PUBLISH
X-WR-CALNAME:Christian Community Church of Conklin
X-ORIGINAL-URL:https://c4conklin.com
X-WR-CALDESC:Events for Christian Community Church of Conklin
REFRESH-INTERVAL;VALUE=DURATION:PT1H
X-Robots-Tag:noindex
X-PUBLISHED-TTL:PT1H
BEGIN:VTIMEZONE
TZID:America/New_York
BEGIN:DAYLIGHT
TZOFFSETFROM:-0500
TZOFFSETTO:-0400
TZNAME:EDT
DTSTART:20240310T070000
END:DAYLIGHT
BEGIN:STANDARD
TZOFFSETFROM:-0400
TZOFFSETTO:-0500
TZNAME:EST
DTSTART:20241103T060000
END:STANDARD
BEGIN:DAYLIGHT
TZOFFSETFROM:-0500
TZOFFSETTO:-0400
TZNAME:EDT
DTSTART:20250309T070000
END:DAYLIGHT
BEGIN:STANDARD
TZOFFSETFROM:-0400
TZOFFSETTO:-0500
TZNAME:EST
DTSTART:20251102T060000
END:STANDARD
BEGIN:DAYLIGHT
TZOFFSETFROM:-0500
TZOFFSETTO:-0400
TZNAME:EDT
DTSTART:20260308T070000
END:DAYLIGHT
BEGIN:STANDARD
TZOFFSETFROM:-0400
TZOFFSETTO:-0500
TZNAME:EST
DTSTART:20261101T060000
END:STANDARD
END:VTIMEZONE
BEGIN:VEVENT
DTSTART;TZID=America/New_York:20251031T180000
DTEND;TZID=America/New_York:20251031T190000
DTSTAMP:20260423T222538
CREATED:20251020T224236Z
LAST-MODIFIED:20251020T224236Z
UID:985-1761933600-1761937200@c4conklin.com
SUMMARY:Trunk or Treat
DESCRIPTION:Community Trunk or Treat!
URL:https://c4conklin.com/event/trunk-or-treat/
LOCATION:C4\, 1049 Conklin Rd\, Conklin\, 13748\, United States
CATEGORIES:On Grounds
ORGANIZER;CN="Web Master":MAILTO:web@c4conklin.com
END:VEVENT
END:VCALENDAR