BEGIN:VCALENDAR
VERSION:2.0
PRODID:-//Christian Community Church of Conklin - ECPv6.15.13//NONSGML v1.0//EN
CALSCALE:GREGORIAN
METHOD:PUBLISH
X-WR-CALNAME:Christian Community Church of Conklin
X-ORIGINAL-URL:https://c4conklin.com
X-WR-CALDESC:Events for Christian Community Church of Conklin
REFRESH-INTERVAL;VALUE=DURATION:PT1H
X-Robots-Tag:noindex
X-PUBLISHED-TTL:PT1H
BEGIN:VTIMEZONE
TZID:America/New_York
BEGIN:DAYLIGHT
TZOFFSETFROM:-0500
TZOFFSETTO:-0400
TZNAME:EDT
DTSTART:20240310T070000
END:DAYLIGHT
BEGIN:STANDARD
TZOFFSETFROM:-0400
TZOFFSETTO:-0500
TZNAME:EST
DTSTART:20241103T060000
END:STANDARD
BEGIN:DAYLIGHT
TZOFFSETFROM:-0500
TZOFFSETTO:-0400
TZNAME:EDT
DTSTART:20250309T070000
END:DAYLIGHT
BEGIN:STANDARD
TZOFFSETFROM:-0400
TZOFFSETTO:-0500
TZNAME:EST
DTSTART:20251102T060000
END:STANDARD
BEGIN:DAYLIGHT
TZOFFSETFROM:-0500
TZOFFSETTO:-0400
TZNAME:EDT
DTSTART:20260308T070000
END:DAYLIGHT
BEGIN:STANDARD
TZOFFSETFROM:-0400
TZOFFSETTO:-0500
TZNAME:EST
DTSTART:20261101T060000
END:STANDARD
END:VTIMEZONE
BEGIN:VEVENT
DTSTART;TZID=America/New_York:20251020T150000
DTEND;TZID=America/New_York:20251020T180000
DTSTAMP:20260424T084049
CREATED:20251020T223635Z
LAST-MODIFIED:20251020T223635Z
UID:978-1760972400-1760983200@c4conklin.com
SUMMARY:Active Love Hayride
DESCRIPTION:Please bring dish to pass\, contact the church for more info.
URL:https://c4conklin.com/event/active-love-hayride/
LOCATION:NY
ORGANIZER;CN="Active Love":MAILTO:contact@c4conklin.com
END:VEVENT
END:VCALENDAR