BEGIN:VCALENDAR
VERSION:2.0
PRODID:-//Christian Community Church of Conklin - ECPv6.15.13//NONSGML v1.0//EN
CALSCALE:GREGORIAN
METHOD:PUBLISH
X-ORIGINAL-URL:https://c4conklin.com
X-WR-CALDESC:Events for Christian Community Church of Conklin
REFRESH-INTERVAL;VALUE=DURATION:PT1H
X-Robots-Tag:noindex
X-PUBLISHED-TTL:PT1H
BEGIN:VTIMEZONE
TZID:America/New_York
BEGIN:DAYLIGHT
TZOFFSETFROM:-0500
TZOFFSETTO:-0400
TZNAME:EDT
DTSTART:20250309T070000
END:DAYLIGHT
BEGIN:STANDARD
TZOFFSETFROM:-0400
TZOFFSETTO:-0500
TZNAME:EST
DTSTART:20251102T060000
END:STANDARD
BEGIN:DAYLIGHT
TZOFFSETFROM:-0500
TZOFFSETTO:-0400
TZNAME:EDT
DTSTART:20260308T070000
END:DAYLIGHT
BEGIN:STANDARD
TZOFFSETFROM:-0400
TZOFFSETTO:-0500
TZNAME:EST
DTSTART:20261101T060000
END:STANDARD
BEGIN:DAYLIGHT
TZOFFSETFROM:-0500
TZOFFSETTO:-0400
TZNAME:EDT
DTSTART:20270314T070000
END:DAYLIGHT
BEGIN:STANDARD
TZOFFSETFROM:-0400
TZOFFSETTO:-0500
TZNAME:EST
DTSTART:20271107T060000
END:STANDARD
END:VTIMEZONE
BEGIN:VEVENT
DTSTART;VALUE=DATE:20260807
DTEND;VALUE=DATE:20260809
DTSTAMP:20260423T235503
CREATED:20251020T224609Z
LAST-MODIFIED:20251103T235742Z
UID:989-1786060800-1786233599@c4conklin.com
SUMMARY:Sight and Sound Trip
DESCRIPTION:Contact the church for more information
URL:https://c4conklin.com/event/sight-and-sound-trip/
LOCATION:NY
ORGANIZER;CN="contact@c4conklin.com":MAILTO:contact@c4conklin.com
END:VEVENT
END:VCALENDAR